BEGIN:VCALENDAR
VERSION:2.0
PRODID:-//Arab Cultural Center - ECPv6.15.14//NONSGML v1.0//EN
CALSCALE:GREGORIAN
METHOD:PUBLISH
X-ORIGINAL-URL:https://accstl.org
X-WR-CALDESC:Events for Arab Cultural Center
REFRESH-INTERVAL;VALUE=DURATION:PT1H
X-Robots-Tag:noindex
X-PUBLISHED-TTL:PT1H
BEGIN:VTIMEZONE
TZID:America/Chicago
BEGIN:DAYLIGHT
TZOFFSETFROM:-0600
TZOFFSETTO:-0500
TZNAME:CDT
DTSTART:20240310T080000
END:DAYLIGHT
BEGIN:STANDARD
TZOFFSETFROM:-0500
TZOFFSETTO:-0600
TZNAME:CST
DTSTART:20241103T070000
END:STANDARD
BEGIN:DAYLIGHT
TZOFFSETFROM:-0600
TZOFFSETTO:-0500
TZNAME:CDT
DTSTART:20250309T080000
END:DAYLIGHT
BEGIN:STANDARD
TZOFFSETFROM:-0500
TZOFFSETTO:-0600
TZNAME:CST
DTSTART:20251102T070000
END:STANDARD
BEGIN:DAYLIGHT
TZOFFSETFROM:-0600
TZOFFSETTO:-0500
TZNAME:CDT
DTSTART:20260308T080000
END:DAYLIGHT
BEGIN:STANDARD
TZOFFSETFROM:-0500
TZOFFSETTO:-0600
TZNAME:CST
DTSTART:20261101T070000
END:STANDARD
END:VTIMEZONE
BEGIN:VEVENT
DTSTART;TZID=America/Chicago:20251018T170000
DTEND;TZID=America/Chicago:20251018T180000
DTSTAMP:20260424T022829
CREATED:20250923T192111Z
LAST-MODIFIED:20250925T173550Z
UID:1698-1760806800-1760810400@accstl.org
SUMMARY:Success story in the United States With Dr. Leen Al Sayyed Board Member of PAMA
DESCRIPTION:🎙️ Arab Cultural Center – St. Louis Podcast \nWe are delighted to invite you to a special online conversation with Dr. Leen Al Sayyed\, Board Member of PAMA\, as she shares her success story in the United States. \n📅 Date: Saturday\, October 18\n⏰ Time: 5:00 PM – 6:00 PM (St. Louis Time)\n🌐 Platform: Zoom \nDiscussion Topics:\n1. Dr. Leen Al Sayyed’s personal and professional journey in the U.S.\n2. Challenges and opportunities as an Arab professional.\n3. Her role and contributions as a Board Member at PAMA.\n4. Leadership\, cultural identity\, and community engagement.\n5. Inspiring advice for youth and professionals.\n6. Building stronger Arab-American professional networks. \n👉 To participate\, please fill out the registration form: https://forms.gle/stJ8iYhcEfLFwqXB8 \nHosted by: Arab Cultural Center – St. Louis\n🌍 www.accstl.org \n#ArabCulturalCenter #StLouis #Podcast #ArabAmerican #SuccessStories #Leadership #Community #PAMA #WomenInLeadership #Inspiration #ArabVoices #LeenAlSayyed #ZoomEvent \n \n🎙️ بودكاست المركز الثقافي العربي – سانت لويس \nيسرّنا أن ندعوكم إلى لقاء افتراضي عبر تطبيق Zoom مع الدكتورة لين السيد، عضو مجلس إدارة PAMA، حيث ستشاركنا قصة نجاحها في الولايات المتحدة الأمريكية. \n📅 التاريخ: يوم السبت 18 أكتوبر\n⏰ الوقت: من الساعة 5:00 مساءً حتى 6:00 مساءً (بتوقيت سانت لويس)\n🌐 المنصة: Zoom \nمحاور اللقاء:\n1. رحلة الدكتورة لين السيد الشخصية والمهنية في الولايات المتحدة.\n2. التحديات والفرص التي واجهتها كمتخصصة عربية في أميركا.\n3. دورها ومساهمتها كعضو مجلس إدارة في PAMA.\n4. القيادة، الهوية الثقافية، وخدمة المجتمع.\n5. نصائح ملهمة للشباب والمهنيين.\n6. بناء شبكات أقوى للمحترفين العرب الأمريكيين. \n👉 للمشاركة، يرجى تعبئة الاستمارة: \nhttps://forms.gle/stJ8iYhcEfLFwqXB8 \nالمنظم: المركز الثقافي العربي – سانت لويس\n🌍 www.accstl.org
URL:https://accstl.org/event/success-story-in-the-united-states-with-dr-leen-al-sayyed-board-member-of-pama/
CATEGORIES:General Events
ATTACH;FMTTYPE=image/jpeg:https://accstl.org/wp-content/uploads/2025/09/Success-story-in-the-United-States-With-Dr.-Leen-Al-Sayyed-.jpg
END:VEVENT
BEGIN:VEVENT
DTSTART;TZID=America/Chicago:20251025T170000
DTEND;TZID=America/Chicago:20251025T170000
DTSTAMP:20260424T022829
CREATED:20251006T164404Z
LAST-MODIFIED:20251006T165109Z
UID:1790-1761411600-1761411600@accstl.org
SUMMARY:Master the Art of Getting Hired: Build a Winning Résumé & Boost Your Career
DESCRIPTION:Master the Art of Getting Hired: Build a Winning Résumé & Boost Your Career!\nPresented by the Arab Cultural Center in St. Louis\n\nJoin us for an inspiring and practical online session designed to help you stand out in today’s competitive job market.\n\nFeaturing Mr. Abdelmeguid Elghrabawi\,\nEmployment Specialist at the Missouri Job Center\,\nwho will share expert tips and real-world strategies for job seekers.\n\nIn this interactive workshop\, you’ll learn how to:\n•Craft a professional résumé that gets noticed\n•Present yourself confidently during interviews\n•Find job opportunities that match your skills and goals\n\nPlatform: Zoom (Online Event)\nThe Zoom link will be sent after registration.\nDate: Saturday\, October 25\, 2025\nTime: 05:00 PM – 06:00 PM (Central Time)\nHosted by: The Arab Cultural Center in St. Louis\nFree participation – open to all community members!\n\nRegister now to reserve your spot:\nhttps://accstl.org//acc-economic-consultation-form/\n\nSeats are limited — don’t miss this opportunity to advance your career!\n\n#CareerWorkshop #ResumeWriting #JobSearch #ACCStLouis #ProfessionalDevelopment #ZoomEvent #MissouriJobCenter #AbdelmeguidElghrabawi\n\n-⭐️-⭐️-⭐️-⭐️-⭐️-⭐️-⭐️-\n\n أتقن فن الحصول على وظيفة: اصنع سيرة ذاتية قوية وابدأ مسيرتك المهنية بثقة!\nيقدّمها المركز الثقافي العربي في مدينة سانت لويس\n\n انضم إلينا في ورشة تفاعلية مميّزة تهدف إلى مساعدتك على التميّز في سوق العمل والمضي قدماً نحو النجاح المهني.\n\n مع الأستاذ عبد المجيد الغرباوي\nأخصائي التوظيف في Missouri Job Center\nالذي سيشارك خبراته واستراتيجياته العملية للباحثين عن عمل.\n\n خلال الورشة ستتعلّم:\n•كيفية إعداد سيرة ذاتية احترافية تجذب أصحاب العمل\n•طرق التقديم والمقابلة بثقة وتميّز\n•أساليب فعّالة للعثور على فرص عمل تناسب مهاراتك\n\nالمنصة: Zoom (لقاء عبر الإنترنت)\n سيتم إرسال رابط Zoom بعد إتمام التسجيل.\nالتاريخ: يوم السبت 25 أكتوبر 2025\nالوقت: من الساعة 05:00 مساءً حتى 06:00 مساءً (بتوقيت سانت لويس)\nبتنظيم من: المركز الثقافي العربي في سانت لويس\nالمشاركة مجانية ومفتوحة للجميع\n\nللتسجيل:\nيرجى تعبئة استمارة التسجيل عبر الرابط التالي:\nhttps://accstl.org//acc-economic-consultation-form/\n\nالمقاعد محدودة — سارع بالتسجيل الآن وابدأ رحلتك نحو النجاح المهني!\n\n#ورشة_عمل #سيرة_ذاتية #تطوير_مهني #فرص_عمل #المركز_الثقافي_العربي #سانت_لويس #Zoom #مركز_التوظيف_ميزوري #عبد_المجيد_الغرباوي
URL:https://accstl.org/event/master-the-art-of-getting-hired-build-a-winning-resume-boost-your-career/
CATEGORIES:General Events
ATTACH;FMTTYPE=image/jpeg:https://accstl.org/wp-content/uploads/2025/10/Master-the-art-of-getting-Hired.jpg
END:VEVENT
END:VCALENDAR