BEGIN:VCALENDAR
VERSION:2.0
PRODID:-//Arab Cultural Center - ECPv6.15.14//NONSGML v1.0//EN
CALSCALE:GREGORIAN
METHOD:PUBLISH
X-WR-CALNAME:Arab Cultural Center
X-ORIGINAL-URL:https://accstl.org
X-WR-CALDESC:Events for Arab Cultural Center
REFRESH-INTERVAL;VALUE=DURATION:PT1H
X-Robots-Tag:noindex
X-PUBLISHED-TTL:PT1H
BEGIN:VTIMEZONE
TZID:America/Chicago
BEGIN:DAYLIGHT
TZOFFSETFROM:-0600
TZOFFSETTO:-0500
TZNAME:CDT
DTSTART:20250309T080000
END:DAYLIGHT
BEGIN:STANDARD
TZOFFSETFROM:-0500
TZOFFSETTO:-0600
TZNAME:CST
DTSTART:20251102T070000
END:STANDARD
BEGIN:DAYLIGHT
TZOFFSETFROM:-0600
TZOFFSETTO:-0500
TZNAME:CDT
DTSTART:20260308T080000
END:DAYLIGHT
BEGIN:STANDARD
TZOFFSETFROM:-0500
TZOFFSETTO:-0600
TZNAME:CST
DTSTART:20261101T070000
END:STANDARD
BEGIN:DAYLIGHT
TZOFFSETFROM:-0600
TZOFFSETTO:-0500
TZNAME:CDT
DTSTART:20270314T080000
END:DAYLIGHT
BEGIN:STANDARD
TZOFFSETFROM:-0500
TZOFFSETTO:-0600
TZNAME:CST
DTSTART:20271107T070000
END:STANDARD
END:VTIMEZONE
BEGIN:VEVENT
DTSTART;TZID=America/Chicago:20260214T180000
DTEND;TZID=America/Chicago:20260214T233000
DTSTAMP:20260423T192004
CREATED:20260115T143414Z
LAST-MODIFIED:20260115T150115Z
UID:1921-1771092000-1771111800@accstl.org
SUMMARY:Valentine’s Day Night | St. Louis & 🌟 Arab Excellence Award – St. Louis 2026
DESCRIPTION:💖🎧 DJ AMEER – Valentine’s Day Night | St. Louis ✨ \nSaturday\, February 14\, 2026 \nCelebrate Valentine’s Day in true elegance with an unforgettable evening of music\, romance\, and recognition.\nThe Arab Cultural Center in St. Louis proudly presents an exclusive Valentine’s Night featuring the legendary DJ AMEER. \n🌟 Arab Excellence Award – St. Louis 2026 \nA prestigious ceremony honoring outstanding leaders\, achievers\, and contributors within the Arab community. \nFollowed by a high-energy\, romantic night of music with \n🎧 DJ AMEER – Live Valentine’s Night \n📍 Venue \nSHEESH Restaurant – St. Louis \n⏰ Program \n🕕 6:00 PM – 7:00 PM\nArab Excellence Award Ceremony \n🕖 7:00 PM – 11:00 PM\nDJ AMEER – Valentine’s Night Party \n🎟 Tickets & Reservations \nBook online:\nwww.zeffy.com/en-US/ticketing/arab-excellence-award-2026-and-valentines-night-with-dj-ameer-jaezh-altmyz-alarby-2026-wlylh-ayd-alhb-dyjy-amyr \nOr call / text:\n📞 314-717-1244 \n✨ One night that brings together\nLove • Music • Prestige • Community \n#DJAMEER\n#ValentinesNight\n#ValentinesDay2026\n#ArabExcellenceAward\n#ArabExcellenceAwards2026\n#ArabCommunity\n#ArabCulture\n#ArabEventsUSA\n#StLouisEvents\n#StLouisValentines\n#StLouisNightlife\n#MissouriEvents\n#MiddleEasternMusic\n#ArabicMusic\n#ArabDJ\n#LoveAndMusic\n#RomanticNight\n#CulturalCelebration\n#ArabPride\n#CommunityLeaders\n#GalaNight\n#AwardsCeremony\n#LiveDJ\n#SheeshRestaurant\n#ACCSTL \n-⭐️-⭐️-⭐️-⭐️-⭐️-⭐️-⭐️- \n💖🎧 دي جي أمير – ليلة عيد الحب | سانت لويس ✨ \nالسبت ١٤ شباط / فبراير ٢٠٢٦ \nاحتفلوا بعيد الحب في أجواء فاخرة ورومانسية تجمع بين الموسيقى الراقية والتكريم الرسمي.\nيسرّ المركز الثقافي العربي في سانت لويس أن يقدّم لكم أمسية استثنائية مع النجم\nدي جي أمير. \n🌟 جائزة التميّز العربي – سانت لويس ٢٠٢٦ \nحفل رسمي لتكريم الشخصيات المؤثرة والإنجازات البارزة في المجتمع العربي. \nتليها سهرة فنية راقية مع \n🎧 دي جي أمير – سهرة عيد الحب \n📍 المكان \nمطعم شيش – SHEESH | سانت لويس \n⏰ البرنامج \n🕕 من 6:00 مساءً إلى 7:00 مساءً\nحفل جائزة التميّز العربي \n🕖 من 7:00 مساءً إلى 11:00 مساءً\nسهرة عيد الحب مع دي جي أمير \n🎟 الحجز والتذاكر \nعبر الرابط:\nwww.zeffy.com/en-US/ticketing/arab-excellence-award-2026-and-valentines-night-with-dj-ameer-jaezh-altmyz-alarby-2026-wlylh-ayd-alhb-dyjy-amyr \nأو عبر الاتصال / واتساب:\n📞 314-717-1244 \n✨ ليلة واحدة تجمع\nالحب • الموسيقى • المكانة • المجتمع. \n#دي_جي_أمير\n#ليلة_عيد_الحب\n#عيد_الحب_٢٠٢٦\n#جائزة_التميز_العربي\n#التميز_العربي\n#المركز_الثقافي_العربي\n#الجالية_العربية\n#سانت_لويس\n#فعاليات_سانت_لويس\n#حفلات_سانت_لويس\n#سهرات_عربية\n#موسيقى_عربية\n#دي_جي\n#ليلة_رومانسية\n#سهرة_عيد_الحب\n#تكريم_الشخصيات\n#قيادات_عربية\n#النجاح_العربي\n#احتفال_عربي\n#الهوية_العربية\n#مطعم_شيش\n#مناسبات_عربية\n#حفلة_العام
URL:https://accstl.org/event/valentines-day-night-st-louis-%f0%9f%8c%9f-arab-excellence-award-st-louis-2026/
CATEGORIES:General Events
ATTACH;FMTTYPE=image/jpeg:https://accstl.org/wp-content/uploads/2026/01/WhatsApp-Image-2026-01-14-at-04.34.46.jpeg
END:VEVENT
END:VCALENDAR