BEGIN:VCALENDAR
VERSION:2.0
PRODID:-//Arab Cultural Center - ECPv6.15.14//NONSGML v1.0//EN
CALSCALE:GREGORIAN
METHOD:PUBLISH
X-WR-CALNAME:Arab Cultural Center
X-ORIGINAL-URL:https://accstl.org
X-WR-CALDESC:Events for Arab Cultural Center
REFRESH-INTERVAL;VALUE=DURATION:PT1H
X-Robots-Tag:noindex
X-PUBLISHED-TTL:PT1H
BEGIN:VTIMEZONE
TZID:America/Chicago
BEGIN:DAYLIGHT
TZOFFSETFROM:-0600
TZOFFSETTO:-0500
TZNAME:CDT
DTSTART:20240310T080000
END:DAYLIGHT
BEGIN:STANDARD
TZOFFSETFROM:-0500
TZOFFSETTO:-0600
TZNAME:CST
DTSTART:20241103T070000
END:STANDARD
BEGIN:DAYLIGHT
TZOFFSETFROM:-0600
TZOFFSETTO:-0500
TZNAME:CDT
DTSTART:20250309T080000
END:DAYLIGHT
BEGIN:STANDARD
TZOFFSETFROM:-0500
TZOFFSETTO:-0600
TZNAME:CST
DTSTART:20251102T070000
END:STANDARD
BEGIN:DAYLIGHT
TZOFFSETFROM:-0600
TZOFFSETTO:-0500
TZNAME:CDT
DTSTART:20260308T080000
END:DAYLIGHT
BEGIN:STANDARD
TZOFFSETFROM:-0500
TZOFFSETTO:-0600
TZNAME:CST
DTSTART:20261101T070000
END:STANDARD
END:VTIMEZONE
BEGIN:VEVENT
DTSTART;TZID=America/Chicago:20251101T170000
DTEND;TZID=America/Chicago:20251101T180000
DTSTAMP:20260424T022956
CREATED:20251018T153830Z
LAST-MODIFIED:20251018T154053Z
UID:1802-1762016400-1762020000@accstl.org
SUMMARY:How to Build Credit – Free Financial Workshop by BMO Bank
DESCRIPTION:💳 How to Build Credit – Free Financial Workshop by BMO Bank\n🌐 Presented by the Arab Cultural Center in St. Louis \n📅 Date: November 1\, 2025\n🕔 Time: 5:00 PM – 6:00 PM\n💻 Location: Zoom (Online Meeting) \n✨ Ready to take control of your financial future?\nJoin our FREE interactive workshop with BMO Bank and discover the proven steps to build\, strengthen\, and protect your credit with confidence! \n💡 What You’ll Learn:\n✅ Why credit matters — and how it shapes your financial future\n✅ Smart\, safe ways to start building credit\n✅ Insider tips to improve your credit score\n✅ How to manage cards\, loans\, and payments responsibly \n🎁 Exclusive Bonus:\nAll attendees receive FREE access to BMO’s Smart Progress Digital Platform — short\, easy-to-follow financial lessons (3–10 mins) available 24/7 to help you reach your goals! \n📸 Photos will be taken during the event to celebrate this valuable partnership and shared on our official platforms. \n🎤 Special Guest:\nMs: Sarah Alfalahi\n💼 VP Bank Manager – Belleville Branch\n🏦 BMO Bank \n📝 Register Now!\n👉 https://accstl.org//acc-economic-consultation-form/\n📩 A Zoom link will be emailed to you after registration. \n🚀 Don’t miss this chance to gain financial confidence and take charge of your credit future! \n#FinancialWellness #BuildCredit #ArabCulturalCenterSTL #BMOBank #CreditWorkshop #FinancialFreedom #SmartMoney #CommunityEducation #StLouisEvents #ZoomWorkshop \n-⭐️-⭐️-⭐️-⭐️-⭐️-⭐️-⭐️- \n💳 ورشة مجانية بعنوان: كيف تبني رصيدك الائتماني – من تقديم بنك BMO\n🌐 ينظمها المركز الثقافي العربي في سانت لويس \n📅 التاريخ: 1 نوفمبر 2025\n🕔 الوقت: من الساعة 5:00 إلى 6:00 مساءً\n💻 المكان: عبر تطبيق Zoom (لقاء عبر الإنترنت) \n✨ هل تريد التحكم بمستقبلك المالي بثقة؟\nانضم إلى ورشتنا المجانية التفاعلية بالتعاون مع بنك BMO لتتعرّف على خطوات عملية ومجرّبة لبناء وتقوية رصيدك الائتماني بطريقة آمنة وفعّالة! \n💡 محاور الورشة:\n✅ أهمية الرصيد الائتماني وتأثيره على مستقبلك المالي\n✅ طرق ذكية وآمنة لبدء بناء الرصيد الائتماني\n✅ نصائح فعّالة لتحسين نقاطك الائتمانية\n✅ كيفية إدارة بطاقات الائتمان والقروض والمدفوعات بمسؤولية \n🎁 هدية خاصة للحضور:\nاحصل على وصول مجاني إلى منصة Smart Progress الرقمية من بنك BMO — دروس قصيرة (3 إلى 10 دقائق) متاحة على مدار الساعة لمساعدتك على تحقيق أهدافك المالية الشخصية. \n📸 سيتم التقاط صور أثناء الورشة ومشاركتها على منصات المركز للتعريف بهذا التعاون البنّاء. \n📝 سجّل الآن عبر الرابط:\n👉 https://accstl.org//acc-economic-consultation-form/\n📩 سيتم إرسال رابط Zoom بعد التسجيل مباشرة إلى بريدك الإلكتروني. \nضيف اللقاء المميز:\nالاستاذة : سارة الفلاحي\n💼 نائبة رئيس فرع بيلفيل\n🏦 بنك BMO \n🚀 لا تفوّت الفرصة لتتعلم كيف تبني مستقبلك المالي بثقة وذكاء! \n#بناء_الرصيد_الائتماني #الاستقلال_المالي #ورشة_مالية #المركز_الثقافي_العربي #سانت_لويس #بنك_BMO #توعية_مالية #تعليم_مالي #فرص_مجانية #ورشة_اونلاين #Zoom_ورشة
URL:https://accstl.org/event/how-to-build-credit-free-financial-workshop-by-bmo-bank/
CATEGORIES:General Events
ATTACH;FMTTYPE=image/jpeg:https://accstl.org/wp-content/uploads/2025/10/WhatsApp-Image-2025-10-17-at-03.45.33.jpeg
END:VEVENT
END:VCALENDAR