BEGIN:VCALENDAR
VERSION:2.0
PRODID:-//Arab Cultural Center - ECPv6.15.14//NONSGML v1.0//EN
CALSCALE:GREGORIAN
METHOD:PUBLISH
X-WR-CALNAME:Arab Cultural Center
X-ORIGINAL-URL:https://accstl.org
X-WR-CALDESC:Events for Arab Cultural Center
REFRESH-INTERVAL;VALUE=DURATION:PT1H
X-Robots-Tag:noindex
X-PUBLISHED-TTL:PT1H
BEGIN:VTIMEZONE
TZID:America/Chicago
BEGIN:DAYLIGHT
TZOFFSETFROM:-0600
TZOFFSETTO:-0500
TZNAME:CDT
DTSTART:20240310T080000
END:DAYLIGHT
BEGIN:STANDARD
TZOFFSETFROM:-0500
TZOFFSETTO:-0600
TZNAME:CST
DTSTART:20241103T070000
END:STANDARD
BEGIN:DAYLIGHT
TZOFFSETFROM:-0600
TZOFFSETTO:-0500
TZNAME:CDT
DTSTART:20250309T080000
END:DAYLIGHT
BEGIN:STANDARD
TZOFFSETFROM:-0500
TZOFFSETTO:-0600
TZNAME:CST
DTSTART:20251102T070000
END:STANDARD
BEGIN:DAYLIGHT
TZOFFSETFROM:-0600
TZOFFSETTO:-0500
TZNAME:CDT
DTSTART:20260308T080000
END:DAYLIGHT
BEGIN:STANDARD
TZOFFSETFROM:-0500
TZOFFSETTO:-0600
TZNAME:CST
DTSTART:20261101T070000
END:STANDARD
BEGIN:DAYLIGHT
TZOFFSETFROM:-0600
TZOFFSETTO:-0500
TZNAME:CDT
DTSTART:20270314T080000
END:DAYLIGHT
BEGIN:STANDARD
TZOFFSETFROM:-0500
TZOFFSETTO:-0600
TZNAME:CST
DTSTART:20271107T070000
END:STANDARD
END:VTIMEZONE
BEGIN:VEVENT
DTSTART;TZID=America/Chicago:20251231T200000
DTEND;TZID=America/Chicago:20251231T200000
DTSTAMP:20260424T075156
CREATED:20251213T201319Z
LAST-MODIFIED:20251213T201356Z
UID:1845-1767211200-1767211200@accstl.org
SUMMARY:New Year’s Eve 2026 Celebration – Arab Cultural Center in St. Louis احتفال ليلة رأس السنة 2026
DESCRIPTION:The Arab Cultural Center in St. Louis invites you and your family to welcome New Year’s Eve 2026 with a vibrant night inspired by rich Arab culture. Enjoy family competitions\, and an atmosphere full of joy and celebration. \n📅 Date: Wednesday\, December 31\, 2025\n⏰ Time: 8:00 PM – 12:00 AM\n📍 Location: Sheesh Restaurant\n3226 S Grand Blvd\, St. Louis\, MO 63118 \n🎤 Live Entertainment:\n* Singer Khalid Al-Rahhal\n* DJ Performance \n🎟 Tickets:\n🧒 Ages 6–12: $15\n🧑 Ages 13 +: $30\n⭐ VIP Experience: $60 \n🍽 Includes: Premium dinner + Soft drink / Soda + baklava \n🔗 Reservation & Inquiries:\nhttps://www.zeffy.com/en-US/ticketing/new-years-eve-2026-celebration-arab-cultural-center-in-st-louis-ahtfal-lylh-ras-alsnh-2026-almrkz-althqafy-alarby-fy-sant-lwys \n✨ Join us for a night where culture\, music\, and family come together to welcome the New Year beautifully! \n#ArabCulturalCenterSTL #StLouisEvents #NewYearEve2026 #ArabCommunity #FamilyCelebration #SheeshRestaurant #NYEParty #STLLife \n-⭐️-⭐️-⭐️-⭐️-⭐️-⭐️-⭐️- \nيتشرف المركز الثقافي العربي في سانت لويس بدعوتكم أنتم وعائلاتكم للاحتفال بليلة رأس السنة ٢٠٢٦ في أجواء مفعمة بروح الثقافة العربية. استمتعوا بـ مسابقات عائلية، وأجواء مليئة بالفرح والبهجة. \n📅 التاريخ: الأربعاء، الحادي والثلاثون من شهر كانون الاول / ديسمبر ٢٠٢٥\n⏰ الوقت: من ٨ مساءً حتى ١٢ منتصف الليل\n📍 المكان: مطعم شيش – Sheesh Restaurant\n3226 S Grand Blvd\, St. Louis\, MO 63118 \n🎤 الفقرات الفنية:\n* المطرب خالد الرحال\n* الدي جي \n🎟 أسعار التذاكر: \n🧒 من ٦–١٢ عام : ١٥ دولار\n🧑 ١٣ عام وما فوق: ٣٠ دولار\n⭐ VIP: ٦٠ دولار \n🍽 يشمل الدخول: عشاء فاخر + مشروبات غازية + بقلاوة \n� الحجز والاستفسار:\nhttps://www.zeffy.com/en-US/ticketing/new-years-eve-2026-celebration-arab-cultural-center-in-st-louis-ahtfal-lylh-ras-alsnh-2026-almrkz-althqafy-alarby-fy-sant-lwys \n✨ كونوا معنا في ليلة تجمع بين الموسيقى والفرح والأجواء العائلية لاستقبال العام الجديد بأجمل طريقة! \n#المركز_الثقافي_العربي #سانت_لويس #رأس_السنة #احتفال_عائلي #مطعم_شيش #فعاليات_الجالية #حفلة_رأس_السنة #STL
URL:https://accstl.org/event/new-years-eve-2026-celebration-arab-cultural-center-in-st-louis-%d8%a7%d8%ad%d8%aa%d9%81%d8%a7%d9%84-%d9%84%d9%8a%d9%84%d8%a9-%d8%b1%d8%a3%d8%b3-%d8%a7%d9%84%d8%b3%d9%86%d8%a9-2026/
CATEGORIES:General Events
ATTACH;FMTTYPE=image/jpeg:https://accstl.org/wp-content/uploads/2025/12/WhatsApp-Image-2025-12-13-at-01.17.56.jpeg
END:VEVENT
BEGIN:VEVENT
DTSTART;TZID=America/Chicago:20260214T180000
DTEND;TZID=America/Chicago:20260214T233000
DTSTAMP:20260424T075156
CREATED:20260115T143414Z
LAST-MODIFIED:20260115T150115Z
UID:1921-1771092000-1771111800@accstl.org
SUMMARY:Valentine’s Day Night | St. Louis & 🌟 Arab Excellence Award – St. Louis 2026
DESCRIPTION:💖🎧 DJ AMEER – Valentine’s Day Night | St. Louis ✨ \nSaturday\, February 14\, 2026 \nCelebrate Valentine’s Day in true elegance with an unforgettable evening of music\, romance\, and recognition.\nThe Arab Cultural Center in St. Louis proudly presents an exclusive Valentine’s Night featuring the legendary DJ AMEER. \n🌟 Arab Excellence Award – St. Louis 2026 \nA prestigious ceremony honoring outstanding leaders\, achievers\, and contributors within the Arab community. \nFollowed by a high-energy\, romantic night of music with \n🎧 DJ AMEER – Live Valentine’s Night \n📍 Venue \nSHEESH Restaurant – St. Louis \n⏰ Program \n🕕 6:00 PM – 7:00 PM\nArab Excellence Award Ceremony \n🕖 7:00 PM – 11:00 PM\nDJ AMEER – Valentine’s Night Party \n🎟 Tickets & Reservations \nBook online:\nwww.zeffy.com/en-US/ticketing/arab-excellence-award-2026-and-valentines-night-with-dj-ameer-jaezh-altmyz-alarby-2026-wlylh-ayd-alhb-dyjy-amyr \nOr call / text:\n📞 314-717-1244 \n✨ One night that brings together\nLove • Music • Prestige • Community \n#DJAMEER\n#ValentinesNight\n#ValentinesDay2026\n#ArabExcellenceAward\n#ArabExcellenceAwards2026\n#ArabCommunity\n#ArabCulture\n#ArabEventsUSA\n#StLouisEvents\n#StLouisValentines\n#StLouisNightlife\n#MissouriEvents\n#MiddleEasternMusic\n#ArabicMusic\n#ArabDJ\n#LoveAndMusic\n#RomanticNight\n#CulturalCelebration\n#ArabPride\n#CommunityLeaders\n#GalaNight\n#AwardsCeremony\n#LiveDJ\n#SheeshRestaurant\n#ACCSTL \n-⭐️-⭐️-⭐️-⭐️-⭐️-⭐️-⭐️- \n💖🎧 دي جي أمير – ليلة عيد الحب | سانت لويس ✨ \nالسبت ١٤ شباط / فبراير ٢٠٢٦ \nاحتفلوا بعيد الحب في أجواء فاخرة ورومانسية تجمع بين الموسيقى الراقية والتكريم الرسمي.\nيسرّ المركز الثقافي العربي في سانت لويس أن يقدّم لكم أمسية استثنائية مع النجم\nدي جي أمير. \n🌟 جائزة التميّز العربي – سانت لويس ٢٠٢٦ \nحفل رسمي لتكريم الشخصيات المؤثرة والإنجازات البارزة في المجتمع العربي. \nتليها سهرة فنية راقية مع \n🎧 دي جي أمير – سهرة عيد الحب \n📍 المكان \nمطعم شيش – SHEESH | سانت لويس \n⏰ البرنامج \n🕕 من 6:00 مساءً إلى 7:00 مساءً\nحفل جائزة التميّز العربي \n🕖 من 7:00 مساءً إلى 11:00 مساءً\nسهرة عيد الحب مع دي جي أمير \n🎟 الحجز والتذاكر \nعبر الرابط:\nwww.zeffy.com/en-US/ticketing/arab-excellence-award-2026-and-valentines-night-with-dj-ameer-jaezh-altmyz-alarby-2026-wlylh-ayd-alhb-dyjy-amyr \nأو عبر الاتصال / واتساب:\n📞 314-717-1244 \n✨ ليلة واحدة تجمع\nالحب • الموسيقى • المكانة • المجتمع. \n#دي_جي_أمير\n#ليلة_عيد_الحب\n#عيد_الحب_٢٠٢٦\n#جائزة_التميز_العربي\n#التميز_العربي\n#المركز_الثقافي_العربي\n#الجالية_العربية\n#سانت_لويس\n#فعاليات_سانت_لويس\n#حفلات_سانت_لويس\n#سهرات_عربية\n#موسيقى_عربية\n#دي_جي\n#ليلة_رومانسية\n#سهرة_عيد_الحب\n#تكريم_الشخصيات\n#قيادات_عربية\n#النجاح_العربي\n#احتفال_عربي\n#الهوية_العربية\n#مطعم_شيش\n#مناسبات_عربية\n#حفلة_العام
URL:https://accstl.org/event/valentines-day-night-st-louis-%f0%9f%8c%9f-arab-excellence-award-st-louis-2026/
CATEGORIES:General Events
ATTACH;FMTTYPE=image/jpeg:https://accstl.org/wp-content/uploads/2026/01/WhatsApp-Image-2026-01-14-at-04.34.46.jpeg
END:VEVENT
BEGIN:VEVENT
DTSTART;TZID=America/Chicago:20260318T193000
DTEND;TZID=America/Chicago:20260318T233000
DTSTAMP:20260424T075156
CREATED:20251213T200202Z
LAST-MODIFIED:20251213T200726Z
UID:1839-1773862200-1773876600@accstl.org
SUMMARY:Blue Strawberry – Showroom & Lounge
DESCRIPTION:Blue Strawberry – Showroom & Lounge\nin collaboration with\nThe Arab Cultural Center in St. Louis\n🌟 Proudly Presented with the Support of the Arab Cultural Center in St. Louis 🌟 \n🎶 SEFFARINE — Morocco Meets Flamenco \nAndalusi Jazz • Moroccan Roots • Flamenco Fusion \n📅 Wednesday\, March 18\, 2026\n🕢 7:30 PM\n💵 $35 / $30 / $25 \n🎟️ Tickets & Details:\nOfficial Blue Strawberry page:\nhttps://bluestrawberrystl.com/show/detail/1872 \n🔗 Facebook Event Share:\nhttps://www.facebook.com/share/17tjH7bWaP/ \n🌍 About the Experience \n“Seffarine’s music can melt the coldest hearts.” — Chicago Reader\n(https://chicagoreader.com) \nA spellbinding performance weaving Moroccan Arabic heritage\, Spanish flamenco fire\, Andalusian elegance\, and West African rhythms. Led by vocalist Lamiae Naki and master musician Nat Hulskamp\, this ensemble brings a vibrant blend of oud\, flamenco guitar\, and global artistry with performers from Iran\, the US\, and Spain. \n🎤 Performing Artists \n* Lamiae Naki – Vocals\n* Nat Hulskamp – Flamenco Guitar & Oud\n* Yosmel Montejo – Bass\n* Manuel Gutierrez – Flamenco Dance & Cajón \n#Seffarine #MoroccoMeetsFlamenco #ArabCulturalCenterSTL\n#BlueStrawberrySTL #LiveMusicSTL #StLouisEvents\n#MoroccanMusic #FlamencoFusion #AndalusiJazz \nSeffarine\nBlue Strawberry Lounge\nBlue Strawberry \n-⭐️-⭐️-⭐️-⭐️-⭐️-⭐️-⭐️- \nالفراولة الزرقاء – صالة العروض\nوبالتعاون مع\nالمركز الثقافي العربي في مدينة سانت لويس\n🌟 برعاية المركز الثقافي العربي في سانت لويس 🌟 \n🎶 سِفّارين — عندما يلتقي المغرب بالفلامنكو \nجاز أندلسي • موسيقى مغربية • فلامنكو عصري \n📅 الأربعاء، 18 مارس 2026\n🕢 7:30 مساءً\n💵 35 / 30 / 25 دولار \n🎟️ التذاكر والتفاصيل:\nالصفحة الرسمية لـ Blue Strawberry:\nhttps://bluestrawberrystl.com/show/detail/1872 \n🔗 مشاركة حدث فيسبوك:\nhttps://www.facebook.com/share/17tjH7bWaP/ \n🌍 نبذة عن العرض \n«موسيقى سِفّارين قادرة على إذابة أقسى القلوب.» — Chicago Reader\n(https://chicagoreader.com) \nرحلة موسيقية آسرة تجمع التراث المغربي العربي، حرارة الفلامنكو الإسباني، جمال المقامات الأندلسية، والإيقاعات الإفريقية. تقود العرض لمياء ناكي بصوتها الأخّاذ، ويرافقها العازف نات هولسكامب على العود وجيتار الفلامنكو، بمشاركة موسيقيين عالميين من إيران والولايات المتحدة وإسبانيا. \n🎤 المؤدّون \n* لمياء ناكي – غناء\n* نات هولسكامب – جيتار فلامنكو وعُود\n* يوسمل مونتيجو – باص\n* مانويل غوتييريز – رقص فلامنكو وكاجون \n#سفارين #موسيقى_مغربية #جاز_أندلسي\n#فلامنكو #المركز_الثقافي_العربي_سانت_لويس\n#بلو_ستروبيري #موسيقى_حية #عروض_سانت_لويس
URL:https://accstl.org/event/blue-strawberry-showroom-lounge/
CATEGORIES:General Events
ATTACH;FMTTYPE=image/jpeg:https://accstl.org/wp-content/uploads/2025/12/WhatsApp-Image-2025-12-10-at-06.20.27.jpeg
END:VEVENT
END:VCALENDAR